BEGIN:VCALENDAR
VERSION:2.0
PRODID:-//Frederick Amateur Radio Club, Inc. - ECPv6.15.20//NONSGML v1.0//EN
CALSCALE:GREGORIAN
METHOD:PUBLISH
X-WR-CALNAME:Frederick Amateur Radio Club, Inc.
X-ORIGINAL-URL:https://frederickarc.org
X-WR-CALDESC:Events for Frederick Amateur Radio Club, Inc.
REFRESH-INTERVAL;VALUE=DURATION:PT1H
X-Robots-Tag:noindex
X-PUBLISHED-TTL:PT1H
BEGIN:VTIMEZONE
TZID:America/New_York
BEGIN:DAYLIGHT
TZOFFSETFROM:-0500
TZOFFSETTO:-0400
TZNAME:EDT
DTSTART:20220313T070000
END:DAYLIGHT
BEGIN:STANDARD
TZOFFSETFROM:-0400
TZOFFSETTO:-0500
TZNAME:EST
DTSTART:20221106T060000
END:STANDARD
BEGIN:DAYLIGHT
TZOFFSETFROM:-0500
TZOFFSETTO:-0400
TZNAME:EDT
DTSTART:20230312T070000
END:DAYLIGHT
BEGIN:STANDARD
TZOFFSETFROM:-0400
TZOFFSETTO:-0500
TZNAME:EST
DTSTART:20231105T060000
END:STANDARD
BEGIN:DAYLIGHT
TZOFFSETFROM:-0500
TZOFFSETTO:-0400
TZNAME:EDT
DTSTART:20240310T070000
END:DAYLIGHT
BEGIN:STANDARD
TZOFFSETFROM:-0400
TZOFFSETTO:-0500
TZNAME:EST
DTSTART:20241103T060000
END:STANDARD
END:VTIMEZONE
BEGIN:VEVENT
DTSTART;TZID=America/New_York:20231016T190000
DTEND;TZID=America/New_York:20231016T203000
DTSTAMP:20260421T025535
CREATED:20221229T013231Z
LAST-MODIFIED:20230310T002235Z
UID:2255-1697482800-1697488200@frederickarc.org
SUMMARY:Club Meeting
DESCRIPTION:Join us for a presentation by Tony\, KC3MBE:   What is a Tiny Spectrum Analyzer  (SA) and Tiny SA Ultra and how might I use them?
URL:https://frederickarc.org/event/club-meeting-10/
LOCATION:Independent Hose Fire Company Social Hall (Rear Entrance)\, 310 Baughmans Ln\, Frederick\, MD\, 21701\, United States
END:VEVENT
END:VCALENDAR