BEGIN:VCALENDAR
VERSION:2.0
PRODID:-//Frederick Amateur Radio Club, Inc. - ECPv6.15.20//NONSGML v1.0//EN
CALSCALE:GREGORIAN
METHOD:PUBLISH
X-WR-CALNAME:Frederick Amateur Radio Club, Inc.
X-ORIGINAL-URL:https://frederickarc.org
X-WR-CALDESC:Events for Frederick Amateur Radio Club, Inc.
REFRESH-INTERVAL;VALUE=DURATION:PT1H
X-Robots-Tag:noindex
X-PUBLISHED-TTL:PT1H
BEGIN:VTIMEZONE
TZID:America/New_York
BEGIN:DAYLIGHT
TZOFFSETFROM:-0500
TZOFFSETTO:-0400
TZNAME:EDT
DTSTART:20240310T070000
END:DAYLIGHT
BEGIN:STANDARD
TZOFFSETFROM:-0400
TZOFFSETTO:-0500
TZNAME:EST
DTSTART:20241103T060000
END:STANDARD
BEGIN:DAYLIGHT
TZOFFSETFROM:-0500
TZOFFSETTO:-0400
TZNAME:EDT
DTSTART:20250309T070000
END:DAYLIGHT
BEGIN:STANDARD
TZOFFSETFROM:-0400
TZOFFSETTO:-0500
TZNAME:EST
DTSTART:20251102T060000
END:STANDARD
BEGIN:DAYLIGHT
TZOFFSETFROM:-0500
TZOFFSETTO:-0400
TZNAME:EDT
DTSTART:20260308T070000
END:DAYLIGHT
BEGIN:STANDARD
TZOFFSETFROM:-0400
TZOFFSETTO:-0500
TZNAME:EST
DTSTART:20261101T060000
END:STANDARD
END:VTIMEZONE
BEGIN:VEVENT
DTSTART;TZID=America/New_York:20250503T080000
DTEND;TZID=America/New_York:20250503T170000
DTSTAMP:20260421T085556
CREATED:20250103T211552Z
LAST-MODIFIED:20250414T005452Z
UID:3784-1746259200-1746291600@frederickarc.org
SUMMARY:Great Hagerstown Hamfest 2025
DESCRIPTION:Please join us at the Great Hagerstown Hamfest at the Maugansville Church\, located at 17904 Binkley Av in Maugansville MD.  For all of the details\, go here:  GHHamfest
URL:https://frederickarc.org/event/great-hagerstown-hamfest-2025/
END:VEVENT
END:VCALENDAR