BEGIN:VCALENDAR
VERSION:2.0
PRODID:-//Frederick Amateur Radio Club, Inc. - ECPv6.15.20//NONSGML v1.0//EN
CALSCALE:GREGORIAN
METHOD:PUBLISH
X-ORIGINAL-URL:https://frederickarc.org
X-WR-CALDESC:Events for Frederick Amateur Radio Club, Inc.
REFRESH-INTERVAL;VALUE=DURATION:PT1H
X-Robots-Tag:noindex
X-PUBLISHED-TTL:PT1H
BEGIN:VTIMEZONE
TZID:America/New_York
BEGIN:DAYLIGHT
TZOFFSETFROM:-0500
TZOFFSETTO:-0400
TZNAME:EDT
DTSTART:20250309T070000
END:DAYLIGHT
BEGIN:STANDARD
TZOFFSETFROM:-0400
TZOFFSETTO:-0500
TZNAME:EST
DTSTART:20251102T060000
END:STANDARD
BEGIN:DAYLIGHT
TZOFFSETFROM:-0500
TZOFFSETTO:-0400
TZNAME:EDT
DTSTART:20260308T070000
END:DAYLIGHT
BEGIN:STANDARD
TZOFFSETFROM:-0400
TZOFFSETTO:-0500
TZNAME:EST
DTSTART:20261101T060000
END:STANDARD
BEGIN:DAYLIGHT
TZOFFSETFROM:-0500
TZOFFSETTO:-0400
TZNAME:EDT
DTSTART:20270314T070000
END:DAYLIGHT
BEGIN:STANDARD
TZOFFSETFROM:-0400
TZOFFSETTO:-0500
TZNAME:EST
DTSTART:20271107T060000
END:STANDARD
END:VTIMEZONE
BEGIN:VEVENT
DTSTART;TZID=America/New_York:20260605T100000
DTEND;TZID=America/New_York:20260605T100000
DTSTAMP:20260420T121423
CREATED:20260104T124050Z
LAST-MODIFIED:20260104T124050Z
UID:4719-1780653600-1780653600@frederickarc.org
SUMMARY:10am Roundtable
DESCRIPTION:
URL:https://frederickarc.org/event/10am-roundtable-284/
END:VEVENT
BEGIN:VEVENT
DTSTART;TZID=America/New_York:20260605T113000
DTEND;TZID=America/New_York:20260605T113000
DTSTAMP:20260420T121423
CREATED:20260104T125754Z
LAST-MODIFIED:20260104T125754Z
UID:4758-1780659000-1780659000@frederickarc.org
SUMMARY:First Friday Luncheon
DESCRIPTION:
URL:https://frederickarc.org/event/first-friday-luncheon-30/
END:VEVENT
END:VCALENDAR